BEGIN:VCALENDAR
VERSION:2.0
PRODID:-//Avrasya Üniversitesi - ECPv6.15.13.1//NONSGML v1.0//EN
CALSCALE:GREGORIAN
METHOD:PUBLISH
X-WR-CALNAME:Avrasya Üniversitesi
X-ORIGINAL-URL:https://lee.avrasya.edu.tr
X-WR-CALDESC:Avrasya Üniversitesi için etkinlikler
REFRESH-INTERVAL;VALUE=DURATION:PT1H
X-Robots-Tag:noindex
X-PUBLISHED-TTL:PT1H
BEGIN:VTIMEZONE
TZID:Europe/Moscow
BEGIN:STANDARD
TZOFFSETFROM:+0300
TZOFFSETTO:+0300
TZNAME:MSK
DTSTART:20190101T000000
END:STANDARD
END:VTIMEZONE
BEGIN:VEVENT
DTSTART;VALUE=DATE:20200811
DTEND;VALUE=DATE:20200812
DTSTAMP:20260416T112620
CREATED:20210110T101724Z
LAST-MODIFIED:20210408T074727Z
UID:7379-1597104000-1597190399@lee.avrasya.edu.tr
SUMMARY:Online Tanıtım Günleri - Lisansüstü Eğitim Enstitüsü
DESCRIPTION:
URL:https://lee.avrasya.edu.tr/event/etlinlik-1/
LOCATION:Yalıncak Yerleşkesi\, Yalıncak Mahallesi\, Rize Cad. No: 125/1 Ortahisar / Trabzon- TURKEY\, ORTAHİSAR\, TRABZON\, Türkiye
END:VEVENT
END:VCALENDAR